BEGIN:VCALENDAR
VERSION:2.0
PRODID:-//Sprich mit Tieren - ECPv6.15.13.1//NONSGML v1.0//EN
CALSCALE:GREGORIAN
METHOD:PUBLISH
X-WR-CALNAME:Sprich mit Tieren
X-ORIGINAL-URL:https://sprich-mit-tieren.de
X-WR-CALDESC:Veranstaltungen für Sprich mit Tieren
REFRESH-INTERVAL;VALUE=DURATION:PT1H
X-Robots-Tag:noindex
X-PUBLISHED-TTL:PT1H
BEGIN:VTIMEZONE
TZID:Europe/Berlin
BEGIN:DAYLIGHT
TZOFFSETFROM:+0100
TZOFFSETTO:+0200
TZNAME:CEST
DTSTART:20250330T010000
END:DAYLIGHT
BEGIN:STANDARD
TZOFFSETFROM:+0200
TZOFFSETTO:+0100
TZNAME:CET
DTSTART:20251026T010000
END:STANDARD
BEGIN:DAYLIGHT
TZOFFSETFROM:+0100
TZOFFSETTO:+0200
TZNAME:CEST
DTSTART:20260329T010000
END:DAYLIGHT
BEGIN:STANDARD
TZOFFSETFROM:+0200
TZOFFSETTO:+0100
TZNAME:CET
DTSTART:20261025T010000
END:STANDARD
BEGIN:DAYLIGHT
TZOFFSETFROM:+0100
TZOFFSETTO:+0200
TZNAME:CEST
DTSTART:20270328T010000
END:DAYLIGHT
BEGIN:STANDARD
TZOFFSETFROM:+0200
TZOFFSETTO:+0100
TZNAME:CET
DTSTART:20271031T010000
END:STANDARD
END:VTIMEZONE
BEGIN:VEVENT
DTSTART;TZID=Europe/Berlin:20261114T100000
DTEND;TZID=Europe/Berlin:20261114T160000
DTSTAMP:20260420T221611
CREATED:20260112T143413Z
LAST-MODIFIED:20260112T144257Z
UID:997-1794650400-1794672000@sprich-mit-tieren.de
SUMMARY:Aufbaukurs Tierkommunikation (2-tägig)
DESCRIPTION:Der Aufbaukurs ist für alle gedacht\, die schon einmal an einem Basiskurs teilgenommen haben (das muss nicht zwingend bei mir gewesen sein). Hier wird an das bereits Gelernte aus dem Basiskurs angeknüpft und darauf aufgebaut. Nach einer kleinen Rückbesinnung üben wir den tieferen Kontakt zu euren Tieren\, mit Hilfe der mitgebrachten Fotos. \nWahrnehmen mit allen Sinnen\nAuf einer Gedankenreise triffst Du einen Tierlehrer\, mit dessen Unterstützung Du ein längeres Gespräch führst und der Dir tiefgehende Fragen beantwortet. Du lernst\, dass ein Kontakt zu Steinen\, Pflanzen oder Gewässern sowie Tieren wie z. B. Insekten ebenso möglich ist. Hier wird Deine Wahrnehmung geschult und der Zugang zur Natur verbessert. \nLerne Dein Krafttier kennen\nWeiterhin unternehmen wir eine schamanische Reise\, auf der Du Deinem Krafttier begegnest\, das Dich von da an stets begleiten und unterstützen wird. Wir beschäftigen uns mit dem Thema „Sterben“\, und zum ersten Mal üben wir den Kontakt zu verstorbenen Tieren. \n\nDer Aufbaukurs wird am Folgetag\, dem 15.11.2026 von 10:00 bis 16:00 Uhr fortgesetzt.
URL:https://sprich-mit-tieren.de/event/aufbaukurs-tierkommunikation-tag-1
LOCATION:Konrad-Adenauer-Straße 14\, 31177 Harsum\, Niedersachsen
CATEGORIES:Tierkommunikation Aufbaukurs
END:VEVENT
END:VCALENDAR